BEGIN:VCALENDAR
VERSION:2.0
PRODID:-//ChamberMaster//Event Calendar 2.0//EN
METHOD:PUBLISH
X-PUBLISHED-TTL:P3D
REFRESH-INTERVAL:P3D
CALSCALE:GREGORIAN
BEGIN:VEVENT
DTSTART:20200925T140000Z
DTEND:20200925T153000Z
X-MICROSOFT-CDO-ALLDAYEVENT:FALSE
SUMMARY:Visually Impaired Support Group
DESCRIPTION:Provides information\, socialization\, support and speakers to those with low vision. The group is open to the public\, Call (248)608-0246 to register. Group meets in OPC Auditorium\, 650 Letica Drive\, Rochester\, 48307.
X-ALT-DESC;FMTTYPE=text/html:Provides information\, socialization\, support and speakers to those with low vision. The group is open to the public\, Call (248)608-0246 to register. Group meets in OPC Auditorium\, 650 Letica Drive\, Rochester\, 48307.
LOCATION:Older Persons' Commission\, 650 Letica Drive\, Rochester\, MI 48307
UID:e.1562.31081
SEQUENCE:3
DTSTAMP:20260423T044755Z
URL:http://rochesterregionalchamberofcommerce.chambermaster.com/events/details/visually-impaired-support-group-31081
END:VEVENT

END:VCALENDAR
